BEGIN:VCALENDAR
VERSION:2.0
PRODID:-//Cámara Árabe Mexicana de Industria y Comercio - ECPv4.9.12//NONSGML v1.0//EN
CALSCALE:GREGORIAN
METHOD:PUBLISH
X-WR-CALNAME:Cámara Árabe Mexicana de Industria y Comercio
X-ORIGINAL-URL:https://camic.org/en/
X-WR-CALDESC:Events for Cámara Árabe Mexicana de Industria y Comercio
BEGIN:VTIMEZONE
TZID:UTC
BEGIN:STANDARD
TZOFFSETFROM:+0000
TZOFFSETTO:+0000
TZNAME:UTC
DTSTART:20240101T000000
END:STANDARD
END:VTIMEZONE
BEGIN:VEVENT
DTSTART;VALUE=DATE:20240820
DTEND;VALUE=DATE:20240823
DTSTAMP:20260425T190900
CREATED:20240806T183129Z
LAST-MODIFIED:20240806T183129Z
UID:5375-1724112000-1724371199@camic.org
SUMMARY:Expo Med | Hospitalar México
DESCRIPTION:The leading event in Mexico and Central America with more than 14 editions\, Expo Med | Hospitalar Mexico is aimed at professionals in the healthcare industry. Every year it presents the most complete offer of medical devices\, cutting-edge technologies\, and all the supplies you need to equip your hospital\, clinic or laboratory. \nFor more information\, please visit: https://www.expomed.com.mx/es/home.html \n
URL:https://camic.org/en/evento/expo-med-hospitalar-mexico/
LOCATION:Ciudad de México\, México
CATEGORIES:Events in Mexico,Fairs and Exhibitions
ATTACH;FMTTYPE=image/png:https://camic.org/wp-content/uploads/2024/08/Captura-de-pantalla-2024-08-06-a-las-12.27.45-p.m..png
END:VEVENT
END:VCALENDAR